BEGIN:VCALENDAR
VERSION:2.0
PRODID:-//Eventin//Event Calendar//EN
CALSCALE:GREGORIAN
METHOD:PUBLISH
BEGIN:VEVENT
UID:931e0ad98f98c4abd166211cb0631339@zest-sa.com
SUMMARY:Upcoming Next Event
DESCRIPTION:Join Riyadh's International Social Experience for Professionals
 ​
LOCATION:Cantonal Hotel
DTSTAMP:20260419T210852Z
DTSTART:20260703T150000Z
DTEND:20260703T190000Z
END:VEVENT
END:VCALENDAR
